BEGIN:VCALENDAR

VERSION:2.0

PRODID:-//hacksw/handcal//NONSGML v1.0//EN

BEGIN:VEVENT

UID:d7ab00e5b46eaa981099e413d3c37f03

DTSTAMP:20260424T154759Z

DTSTART:20210227T110000

DTEND:20210227T113000

SUMMARY: - 

LOCATION:

END:VEVENT

END:VCALENDAR