BEGIN:VCALENDAR

VERSION:2.0

PRODID:-//hacksw/handcal//NONSGML v1.0//EN

BEGIN:VEVENT

UID:154be83c1b430ede590afaea03b31811

DTSTAMP:20260424T150050Z

DTSTART:20210227T110000

DTEND:20210227T113000

SUMMARY:22840106 - 23 Cottonwood Crescent, CALAMVALE QLD 4116

LOCATION:23 Cottonwood Crescent, CALAMVALE QLD 4116

END:VEVENT

END:VCALENDAR