BEGIN:VCALENDAR

VERSION:2.0

PRODID:-//hacksw/handcal//NONSGML v1.0//EN

BEGIN:VEVENT

UID:33ffa993c8e4a06e8ad6ae8f722b08c1

DTSTAMP:20260424T154139Z

DTSTART:20210227T110000

DTEND:20210227T113000

SUMMARY:22485685 - 56 Henderson Street, BULIMBA QLD 4171

LOCATION:56 Henderson Street, BULIMBA QLD 4171

END:VEVENT

END:VCALENDAR