BEGIN:VCALENDAR

VERSION:2.0

PRODID:-//hacksw/handcal//NONSGML v1.0//EN

BEGIN:VEVENT

UID:c4c924be3fe8175283b204775792676e

DTSTAMP:20260424T150034Z

DTSTART:20210227T093000

DTEND:20210227T100000

SUMMARY: - 

LOCATION:

END:VEVENT

END:VCALENDAR