BEGIN:VCALENDAR

VERSION:2.0

PRODID:-//hacksw/handcal//NONSGML v1.0//EN

BEGIN:VEVENT

UID:61b6d22ebd2990a8a28bc5d4787f0d23

DTSTAMP:20260424T150158Z

DTSTART:20210227T113000

DTEND:20210227T120000

SUMMARY: - 

LOCATION:

END:VEVENT

END:VCALENDAR