BEGIN:VCALENDAR

VERSION:2.0

PRODID:-//hacksw/handcal//NONSGML v1.0//EN

BEGIN:VEVENT

UID:a45297b6c587a2b06258a02ad0d34d3e

DTSTAMP:20260424T145321Z

DTSTART:20210227T103000

DTEND:20210227T110000

SUMMARY: - 

LOCATION:

END:VEVENT

END:VCALENDAR